BEGIN:VCALENDAR
PRODID:NingEventWidget-v1
VERSION:2.0
METHOD:PUBLISH
BEGIN:VTIMEZONE
TZID:America/New_York
X-LIC-LOCATION:America/New_York
BEGIN:DAYLIGHT
TZOFFSETFROM:-0500
TZOFFSETTO:-0400
TZNAME:EDT
DTSTART:19700308T020000
RRULE:FREQ=YEARLY;BYMONTH=3;BYDAY=2SU
END:DAYLIGHT
BEGIN:STANDARD
TZOFFSETFROM:-0400
TZOFFSETTO:-0500
TZNAME:EST
DTSTART:19701101T020000
RRULE:FREQ=YEARLY;BYMONTH=11;BYDAY=1SU
END:STANDARD
END:VTIMEZONE
BEGIN:VEVENT
UID:2826695:Event:495720
DTSTAMP:20260423T232234Z
SUMMARY:Z-Day (April Fools)
DESCRIPTION:Zombie outbreaks (flash mobs) EVERYWHERE on Saturday, Marc
 h 30, and Monday, April 1. Cell phone videos of each outbreak to CNN, 
 MSNBC, FOX and local networks (No \"outbreaks on Easter Sunday). See Z
 -Day HQ for details.\n\nFor more information visit http://www.wickedzo
 mbies.com/events/z-day-april-fools
DTSTART;TZID=America/New_York:20130330T000000
DTEND;TZID=America/New_York:20130401T235900
CATEGORIES:flash, mob, "(zombie", outbreak, "simulation)"
LOCATION:Global (see Z-Day HQ on Facebook for an outbreak near you)
WEBSITE:
URL:
CONTACT:
ORGANIZER;CN="David P. Forsyth":http://www.wickedzombies.com/profile/D
 avidPForsyth
ATTACH;FMTTYPE="image/jpeg":
ATTENDEE;ROLE=REQ-PARTICIPANT;PARTSTAT=ACCEPTED;RSVP=TRUE;CN="David P.
  Forsyth":http://www.wickedzombies.com/profile/DavidPForsyth
END:VEVENT
END:VCALENDAR
