BEGIN:VCALENDAR
PRODID:NingEventWidget-v1
VERSION:2.0
METHOD:PUBLISH
BEGIN:VTIMEZONE
TZID:America/New_York
X-LIC-LOCATION:America/New_York
BEGIN:DAYLIGHT
TZOFFSETFROM:-0500
TZOFFSETTO:-0400
TZNAME:EDT
DTSTART:19700308T020000
RRULE:FREQ=YEARLY;BYMONTH=3;BYDAY=2SU
END:DAYLIGHT
BEGIN:STANDARD
TZOFFSETFROM:-0400
TZOFFSETTO:-0500
TZNAME:EST
DTSTART:19701101T020000
RRULE:FREQ=YEARLY;BYMONTH=11;BYDAY=1SU
END:STANDARD
END:VTIMEZONE
BEGIN:VEVENT
UID:2826695:Event:47488
DTSTAMP:20260422T064553Z
SUMMARY:VANCOUVER ZOMBIE WALK
DESCRIPTION:\nI have compiled information and links pertaining to the 
 Vancouver Zombie Walk. This may not be a Halloween event but who cares
 . It's a chance to dress up as and hang out with hundreds of Zombies a
 nd you can't do that on Halloween!\n\nFor more information visit http:
 //www.wickedzombies.com/events/vancouver-zombie-walk
DTSTART;TZID=America/New_York:20090815T110000
DTEND;TZID=America/New_York:20090815T220000
CATEGORIES:zombie, walk
LOCATION:details about this years route to be announced at a closer da
 te.
WEBSITE:http://www.vancouverhalloween.com/vh_ZombieWalk.html
URL:http://www.vancouverhalloween.com/vh_ZombieWalk.html
CONTACT:
ORGANIZER:The Zombie Store
ATTACH;FMTTYPE="image/jpeg":http://storage.ning.com/topology/rest/1.0/
 file/get/2030378465?profile=original
END:VEVENT
END:VCALENDAR
