BEGIN:VCALENDAR
PRODID:NingEventWidget-v1
VERSION:2.0
METHOD:PUBLISH
BEGIN:VTIMEZONE
TZID:America/New_York
X-LIC-LOCATION:America/New_York
BEGIN:DAYLIGHT
TZOFFSETFROM:-0500
TZOFFSETTO:-0400
TZNAME:EDT
DTSTART:19700308T020000
RRULE:FREQ=YEARLY;BYMONTH=3;BYDAY=2SU
END:DAYLIGHT
BEGIN:STANDARD
TZOFFSETFROM:-0400
TZOFFSETTO:-0500
TZNAME:EST
DTSTART:19701101T020000
RRULE:FREQ=YEARLY;BYMONTH=11;BYDAY=1SU
END:STANDARD
END:VTIMEZONE
BEGIN:VEVENT
UID:2826695:Event:47313
DTSTAMP:20260422T081142Z
SUMMARY:So Cal ZOMBIEWALK
DESCRIPTION:Get ready all you blood thirsty ZOMBIES and zombie lovers 
 because So.Cal Zombie Walk is returning with our annual Summer ZOMBIE 
 WALK! This time out Santa Monica Blvd in West Hollywood has no idea wh
 at's coming for them!\n\n\nFor more information visit http://www.wicke
 dzombies.com/events/so-cal-zombiewalk
DTSTART;TZID=America/New_York:20090815T180000
DTEND;TZID=America/New_York:20090815T230000
CATEGORIES:zombie, walk
LOCATION:Santa Monica Blvd
WEBSITE:http://www.socalzombiewalk.com/
URL:http://www.socalzombiewalk.com/
CONTACT:
ORGANIZER:So Cal ZOMBIEWALK
ATTACH;FMTTYPE="image/jpeg":http://storage.ning.com/topology/rest/1.0/
 file/get/2030377925?profile=original
ATTENDEE;ROLE=REQ-PARTICIPANT;PARTSTAT=ACCEPTED;RSVP=TRUE;CN="Komrad V
 enessa Wicked☭":http://www.wickedzombies.com/profile/WICKED
END:VEVENT
END:VCALENDAR
