BEGIN:VCALENDAR
PRODID:NingEventWidget-v1
VERSION:2.0
METHOD:PUBLISH
BEGIN:VTIMEZONE
TZID:America/New_York
X-LIC-LOCATION:America/New_York
BEGIN:DAYLIGHT
TZOFFSETFROM:-0500
TZOFFSETTO:-0400
TZNAME:EDT
DTSTART:19700308T020000
RRULE:FREQ=YEARLY;BYMONTH=3;BYDAY=2SU
END:DAYLIGHT
BEGIN:STANDARD
TZOFFSETFROM:-0400
TZOFFSETTO:-0500
TZNAME:EST
DTSTART:19701101T020000
RRULE:FREQ=YEARLY;BYMONTH=11;BYDAY=1SU
END:STANDARD
END:VTIMEZONE
BEGIN:VEVENT
UID:2826695:Event:47502
DTSTAMP:20260422T051634Z
SUMMARY:Plague Day at the Faire
DESCRIPTION:On August 15, 2009, zombies will descend on the Bristol Co
 unty Renaissance Faire for the first time ever. The all day retro zomb
 ie festivities will include a Zombie Wench Pageant, which is basically
  the same as a Zombie Pinups Beauty Pageant, except zombie contenders 
 should be in era-appropriate attire! So dust off your bodice, lace up 
 your corset, and come out to compete for fun and fabulous prizes!\n\n\
 nFor more information visit http://www.wickedzombies.com/events/plague
 -day-at-the-faire
DTSTART;TZID=America/New_York:20090815T000000
DTEND;TZID=America/New_York:20090815T235900
CATEGORIES:plague, day, at, the, bristol, renaissance, faire, in, augu
 st, "–", medieval, "zombies!"
LOCATION:Bristol Renaissance Faire
WEBSITE:http://www.plagueday.com
URL:http://www.plagueday.com
CONTACT:847-395-7773
ORGANIZER:Brought to you by Kitty Zombie and DarkChicago.com
ATTACH;FMTTYPE="image/jpeg":http://storage.ning.com/topology/rest/1.0/
 file/get/2030379398?profile=original
ATTENDEE;ROLE=REQ-PARTICIPANT;PARTSTAT=ACCEPTED;RSVP=TRUE;CN="Heart Ea
 ter":http://www.wickedzombies.com/profile/HeartEater
END:VEVENT
END:VCALENDAR
