BEGIN:VCALENDAR
PRODID:NingEventWidget-v1
VERSION:2.0
METHOD:PUBLISH
BEGIN:VTIMEZONE
TZID:America/New_York
X-LIC-LOCATION:America/New_York
BEGIN:DAYLIGHT
TZOFFSETFROM:-0500
TZOFFSETTO:-0400
TZNAME:EDT
DTSTART:19700308T020000
RRULE:FREQ=YEARLY;BYMONTH=3;BYDAY=2SU
END:DAYLIGHT
BEGIN:STANDARD
TZOFFSETFROM:-0400
TZOFFSETTO:-0500
TZNAME:EST
DTSTART:19701101T020000
RRULE:FREQ=YEARLY;BYMONTH=11;BYDAY=1SU
END:STANDARD
END:VTIMEZONE
BEGIN:VEVENT
UID:2826695:Event:489546
DTSTAMP:20260424T004648Z
SUMMARY:NYC HORROR FILM FESTIVAL 2012!
DESCRIPTION:\n\nFor more information visit http://www.wickedzombies.co
 m/events/nyc-horror-film-festival-2012
DTSTART;TZID=America/New_York:20121107T180000
DTEND;TZID=America/New_York:20121111T190000
CATEGORIES:horror, film, festival
LOCATION:Tribeca Cinemas & The Varick Room
WEBSITE:http://nychorrorfest.com/
URL:http://nychorrorfest.com/
CONTACT:(212) 941-2001
ORGANIZER:NYCHFF
ATTACH;FMTTYPE="image/jpeg":http://storage.ning.com/topology/rest/1.0/
 file/get/2030566070?profile=original
ATTENDEE;ROLE=REQ-PARTICIPANT;PARTSTAT=ACCEPTED;RSVP=TRUE;CN="Komrad D
 ead Warrior☭":http://www.wickedzombies.com/profile/KomradVenessaWick
 ed
ATTENDEE;ROLE=REQ-PARTICIPANT;PARTSTAT=ACCEPTED;RSVP=TRUE;CN="Komrad V
 enessa Wicked☭":http://www.wickedzombies.com/profile/WICKED
END:VEVENT
END:VCALENDAR
