BEGIN:VCALENDAR
PRODID:NingEventWidget-v1
VERSION:2.0
METHOD:PUBLISH
BEGIN:VTIMEZONE
TZID:America/New_York
X-LIC-LOCATION:America/New_York
BEGIN:DAYLIGHT
TZOFFSETFROM:-0500
TZOFFSETTO:-0400
TZNAME:EDT
DTSTART:19700308T020000
RRULE:FREQ=YEARLY;BYMONTH=3;BYDAY=2SU
END:DAYLIGHT
BEGIN:STANDARD
TZOFFSETFROM:-0400
TZOFFSETTO:-0500
TZNAME:EST
DTSTART:19701101T020000
RRULE:FREQ=YEARLY;BYMONTH=11;BYDAY=1SU
END:STANDARD
END:VTIMEZONE
BEGIN:VEVENT
UID:2826695:Event:46854
DTSTAMP:20260422T094207Z
SUMMARY:MONSTER-MANIA CON
DESCRIPTION:\n\nFor more information visit http://www.wickedzombies.co
 m/events/monstermania-con
DTSTART;TZID=America/New_York:20090821T000000
DTEND;TZID=America/New_York:20090823T235900
CATEGORIES:horror, konvention
LOCATION:Cherry Hill, NJ Crown Plaza Hotel
WEBSITE:http://www.monstermania.net/
URL:http://www.monstermania.net/
CONTACT:
ORGANIZER:MONSTER MANIA-CON
ATTACH;FMTTYPE="image/jpeg":http://storage.ning.com/topology/rest/1.0/
 file/get/2030376633?profile=original
ATTENDEE;ROLE=REQ-PARTICIPANT;PARTSTAT=ACCEPTED;RSVP=TRUE;CN="Heart Ea
 ter":http://www.wickedzombies.com/profile/HeartEater
ATTENDEE;ROLE=REQ-PARTICIPANT;PARTSTAT=ACCEPTED;RSVP=TRUE;CN="Komrad V
 enessa Wicked☭":http://www.wickedzombies.com/profile/WICKED
END:VEVENT
END:VCALENDAR
