BEGIN:VCALENDAR
PRODID:NingEventWidget-v1
VERSION:2.0
METHOD:PUBLISH
BEGIN:VTIMEZONE
TZID:America/New_York
X-LIC-LOCATION:America/New_York
BEGIN:DAYLIGHT
TZOFFSETFROM:-0500
TZOFFSETTO:-0400
TZNAME:EDT
DTSTART:19700308T020000
RRULE:FREQ=YEARLY;BYMONTH=3;BYDAY=2SU
END:DAYLIGHT
BEGIN:STANDARD
TZOFFSETFROM:-0400
TZOFFSETTO:-0500
TZNAME:EST
DTSTART:19701101T020000
RRULE:FREQ=YEARLY;BYMONTH=11;BYDAY=1SU
END:STANDARD
END:VTIMEZONE
BEGIN:VEVENT
UID:2826695:Event:174198
DTSTAMP:20260421T104234Z
SUMMARY:MONSTER MANIA
DESCRIPTION:\n\nFor more information visit http://www.wickedzombies.co
 m/events/monster-mania
DTSTART;TZID=America/New_York:20110311T000000
DTEND;TZID=America/New_York:20110313T235900
CATEGORIES:horror, convention
LOCATION:Crowne Plaza Hotel
WEBSITE:http://www.monstermania.net/
URL:http://www.monstermania.net/
CONTACT:856-665-6666
ORGANIZER:MONSTER MANIA
ATTACH;FMTTYPE="image/jpeg":http://storage.ning.com/topology/rest/1.0/
 file/get/2030456484?profile=original
ATTENDEE;ROLE=REQ-PARTICIPANT;PARTSTAT=ACCEPTED;RSVP=TRUE;CN="Wicked D
 eath☭":http://www.wickedzombies.com/profile/ZombieDeath
ATTENDEE;ROLE=REQ-PARTICIPANT;PARTSTAT=ACCEPTED;RSVP=TRUE;CN="Patrick 
 Devaney":http://www.wickedzombies.com/profile/PatrickDevaney
ATTENDEE;ROLE=REQ-PARTICIPANT;PARTSTAT=ACCEPTED;RSVP=TRUE;CN="Armgardt
  Richter Rose":http://www.wickedzombies.com/profile/ArmgardtRichterRos
 e
ATTENDEE;ROLE=REQ-PARTICIPANT;PARTSTAT=ACCEPTED;RSVP=TRUE;CN="Komrad V
 enessa Wicked☭":http://www.wickedzombies.com/profile/WICKED
ATTENDEE;ROLE=REQ-PARTICIPANT;PARTSTAT=TENTATIVE;RSVP=TRUE;CN=Catofnin
 etails:http://www.wickedzombies.com/profile/RitaSMith
END:VEVENT
END:VCALENDAR
